BEGIN:VCALENDAR
PRODID:-//eluceo/ical//2.0/EN
VERSION:2.0
CALSCALE:GREGORIAN
BEGIN:VEVENT
UID:f8a0fc9aa241b865cd6acda4085723aa
DTSTAMP:20260422T020024Z
SUMMARY:Gründonnerstags-Suppe
DESCRIPTION:Wir sammeln die Kräuter für die Gründonnerstags-Suppe und fo
 lgen\ndamit einer uralten Tradition. Neun frühe Frühlings-Kräutern sind
 \ndie wichtigsten Zutaten.\nWir lauschen den Geschichten um diesen Brauch 
 und bereiten die Suppe\nüber dem Feuer zu.\n
DTSTART:20220414T113000Z
DTEND:20220414T153000Z
END:VEVENT
END:VCALENDAR
