BEGIN:VCALENDAR
PRODID:-//eluceo/ical//2.0/EN
VERSION:2.0
CALSCALE:GREGORIAN
BEGIN:VEVENT
UID:0fff8aa881ba58dd74952888b349c993
DTSTAMP:20260422T015750Z
SUMMARY:Aktion «lärmfreier Gartentag»
DESCRIPTION:Am Samstag\, 30. April 2022 findet schweizweit der «lärmfreie
 \nGartentag» statt. Alle motorbetriebenen Gartengeräte haben Pause –\n
 ganz nach dem Motto «Muskeln statt Motoren». Oder lassen Sie den\nGarten
  mal ganz ruhen\, die Biodiversität freuts.\n
DTSTART:20220430T080000Z
DTEND:20220430T160000Z
LOCATION:Horwerstrasse 87\, 6005 Luzern
GEO:47.034714;8.304210
X-APPLE-STRUCTURED-LOCATION;VALUE=URI;X-ADDRESS=Horwerstrasse 87\, 6005 Luz
 ern;X-APPLE-RADIUS=49;X-TITLE=:geo:47.034714,8.304210
END:VEVENT
END:VCALENDAR
