BEGIN:VCALENDAR
PRODID:-//eluceo/ical//2.0/EN
VERSION:2.0
CALSCALE:GREGORIAN
BEGIN:VEVENT
UID:320af2990b79b583c58f87800240b52b
DTSTAMP:20260422T020646Z
SUMMARY:Saatgutausstellung
DESCRIPTION:An verschiedenen Standorten wird in der Wanderausstellung "Saat
 gut"\nüber die Geschichte des Saatguts\, die Probleme der heutigen\nSaatg
 utindustrie und die Bedeutung der lokalen Saatgutzucht\ninformiert.\n
DTSTART;VALUE=DATE:20220430
DTEND;VALUE=DATE:20220515
END:VEVENT
END:VCALENDAR
