BEGIN:VCALENDAR
PRODID:-//eluceo/ical//2.0/EN
VERSION:2.0
CALSCALE:GREGORIAN
BEGIN:VEVENT
UID:c200898b766bd665c9ae2c185077d2f1
DTSTAMP:20260422T002152Z
SUMMARY:Ohne Saatgut geht gar nichts. Geschichte\, Problematik\, Relevanz.
DESCRIPTION:Welche Probleme bringt die heutige Saatgutindustrie mit sich un
 d warum\nsind der Erhalt und die Zucht von lokalem Saatgut von grosser\nBe
 deutung? Ein Vortrag von Public Eye Zentralschweiz und Natur-Museum.\n
DTSTART:20220512T173000Z
DTEND:20220512T190000Z
LOCATION:Kasernenplatz 6\, 6003 Luzern
GEO:47.051712;8.300926
X-APPLE-STRUCTURED-LOCATION;VALUE=URI;X-ADDRESS=Kasernenplatz 6\, 6003 Luze
 rn;X-APPLE-RADIUS=49;X-TITLE=:geo:47.051712,8.300926
END:VEVENT
END:VCALENDAR
