BEGIN:VCALENDAR
PRODID:-//eluceo/ical//2.0/EN
VERSION:2.0
CALSCALE:GREGORIAN
BEGIN:VEVENT
UID:2d160b38977e5e79f462630d1fb4221f
DTSTAMP:20260421T233054Z
SUMMARY:Film 'seed - the untold story' & Gespräch
DESCRIPTION:Film 'Seed - the untold story' mit anschliessender Diskussion.\
 nVeranstaltung organisiert durch Swissaid im Rahmen der\nSaatgutausstellun
 g von Public Eye Regionalgruppe Luzern\nhttps://saatgutausstellung.ch/\n
DTSTART:20220504T170000Z
DTEND:20220504T193000Z
LOCATION:Löwenplatz 11\, 6004 Luzern
GEO:47.056911;8.311128
X-APPLE-STRUCTURED-LOCATION;VALUE=URI;X-ADDRESS=Löwenplatz 11\, 6004 Luzer
 n;X-APPLE-RADIUS=49;X-TITLE=:geo:47.056911,8.311128
END:VEVENT
END:VCALENDAR
