BEGIN:VCALENDAR
PRODID:-//eluceo/ical//2.0/EN
VERSION:2.0
CALSCALE:GREGORIAN
BEGIN:VEVENT
UID:977d6cf2fb22fd18b7feb09130fbb740
DTSTAMP:20260422T002010Z
SUMMARY:Führung Saatgut: Vielfalt in der Krise
DESCRIPTION:Unser Saatgut\, die Basis unserer Zivilisation und unser gemein
 sames\nErbe\, ist heute stark in seiner Vielfalt bedroht. Eine Führung vo
 n\nNatur-Museum und Public Eye Zentralschweiz.\n
DTSTART:20220503T160000Z
DTEND:20220503T170000Z
LOCATION:Kasernenplatz 6\, 6003 Luzern
GEO:47.051712;8.300926
X-APPLE-STRUCTURED-LOCATION;VALUE=URI;X-ADDRESS=Kasernenplatz 6\, 6003 Luze
 rn;X-APPLE-RADIUS=49;X-TITLE=:geo:47.051712,8.300926
END:VEVENT
END:VCALENDAR
