BEGIN:VCALENDAR
PRODID:-//eluceo/ical//2.0/EN
VERSION:2.0
CALSCALE:GREGORIAN
BEGIN:VEVENT
UID:2e1cf81c943ae57a84650bb1140a41b1
DTSTAMP:20260422T020540Z
SUMMARY:Vernissage Saatgutausstellung
DESCRIPTION:Auf sechs Plakaten wird über die Geschichte des Saatguts\, die
 \nProbleme der heutigen Saatgutindustrie und die Bedeutung der lokalen\nSa
 atgutzucht informiert. Lasst uns die Eröffnung der zweiwöchigen\nAusstel
 lung mit vielen Rahmenveranstaltungen feiern.\n
DTSTART:20220430T140000Z
DTEND:20220430T160000Z
LOCATION:Bireggstrasse 36\, 6003 Luzern
GEO:47.041443;8.307155
X-APPLE-STRUCTURED-LOCATION;VALUE=URI;X-ADDRESS=Bireggstrasse 36\, 6003 Luz
 ern;X-APPLE-RADIUS=49;X-TITLE=:geo:47.041443,8.307155
END:VEVENT
END:VCALENDAR
