BEGIN:VCALENDAR
PRODID:-//eluceo/ical//2.0/EN
VERSION:2.0
CALSCALE:GREGORIAN
BEGIN:VEVENT
UID:52030be542ffcd61eff048b74c6d54eb
DTSTAMP:20260422T020158Z
SUMMARY:Velobörse Pro Velo
DESCRIPTION:Am Samstag\, 19. März 2022 findet die Velobörse am Nationalqu
 ai in\nLuzern statt. Nicht mehr benötigte Velos\, Kindervelos oder Anhän
 ger\nkönnen von 8.30 bis 11.30 abgegeben werden. Pro Person dürfen\nmaxi
 mal 3 Velos zum Verkauf angeboten werden.\n
DTSTART:20220319T120000Z
DTEND:20220319T150000Z
LOCATION:
GEO:47.050168;8.309307
X-APPLE-STRUCTURED-LOCATION;VALUE=URI;X-ADDRESS=;X-APPLE-RADIUS=49;X-TITLE=
 :geo:47.050168,8.309307
END:VEVENT
END:VCALENDAR
