BEGIN:VCALENDAR
PRODID:-//eluceo/ical//2.0/EN
VERSION:2.0
CALSCALE:GREGORIAN
BEGIN:VEVENT
UID:1398fac7fabb37f677b20dd78373f81e
DTSTAMP:20260422T002022Z
SUMMARY:Zukunft pflanzen -  Lokales Saatgut erhöht die Ernährungssicherhe
 it
DESCRIPTION:Am Beispiel von Nicaragua wird die Bedeutung von lokalem Saatgu
 t für\ndie Menschen vor Ort aufgezeigt. Ein Gespräch mit Fachpersonen au
 s\nNicaragua und der Schweiz im Rahme der Saatgutausstellung von Public\nE
 ye Regionalgruppe Zentralschweiz.\n
DTSTART:20220510T170000Z
DTEND:20220510T180000Z
LOCATION:Kreuzbuchstrasse 44\, 6006 Luzern
GEO:47.054098;8.340942
X-APPLE-STRUCTURED-LOCATION;VALUE=URI;X-ADDRESS=Kreuzbuchstrasse 44\, 6006 
 Luzern;X-APPLE-RADIUS=49;X-TITLE=:geo:47.054098,8.340942
END:VEVENT
END:VCALENDAR
