BEGIN:VCALENDAR
PRODID:-//eluceo/ical//2.0/EN
VERSION:2.0
CALSCALE:GREGORIAN
BEGIN:VEVENT
UID:f22cf5d9651f7aba4afcc3a64eedead9
DTSTAMP:20260424T155916Z
SUMMARY:Jede Blüte zählt 
DESCRIPTION:Entgegen weit verbreiteter Meinung gilt das Nutztier Honigbiene
  nicht\nals bedroht\, im Gegensatz zu den etwa 620 Wildbienen-Arten in der
 \nSchweiz. Zum Glück gelten gerade Siedlungsräume mittlerweile als\nwich
 tige Rückzugsräume für Wildbienen...\n
DTSTART:20220409T060000Z
DTEND:20220409T120000Z
LOCATION:Riedmattstrasse 5\, 6030 Ebikon
GEO:47.083784;8.340339
X-APPLE-STRUCTURED-LOCATION;VALUE=URI;X-ADDRESS=Riedmattstrasse 5\, 6030 Eb
 ikon;X-APPLE-RADIUS=49;X-TITLE=:geo:47.083784,8.340339
END:VEVENT
END:VCALENDAR
