BEGIN:VCALENDAR
PRODID:-//eluceo/ical//2.0/EN
VERSION:2.0
CALSCALE:GREGORIAN
BEGIN:VEVENT
UID:a28d93bb58c1c3161a792983d529a102
DTSTAMP:20260421T224842Z
SUMMARY:Riedwiesenpflege im Moosried
DESCRIPTION:Für die Pflege artenreicher Lebensräume suchen wir tatkräfti
 ge\nUnterstützung.\n
DTSTART:20220820T070000Z
DTEND:20220820T100000Z
END:VEVENT
END:VCALENDAR
