BEGIN:VCALENDAR
PRODID:-//eluceo/ical//2.0/EN
VERSION:2.0
CALSCALE:GREGORIAN
BEGIN:VEVENT
UID:76145f5584d0453abbd7023d0d329fe4
DTSTAMP:20260421T224751Z
SUMMARY:Riedwiesenpflege im Schlittenried
DESCRIPTION:Für die Pflege artenreicher Lebensräume suchen wir tatkräfti
 ge\nUnterstützung.\n
DTSTART:20220709T070000Z
DTEND:20220709T100000Z
END:VEVENT
END:VCALENDAR
