BEGIN:VCALENDAR
PRODID:-//eluceo/ical//2.0/EN
VERSION:2.0
CALSCALE:GREGORIAN
BEGIN:VEVENT
UID:a3ea8409528ea9e0efe7c2d864fe6807
DTSTAMP:20260424T032107Z
SUMMARY:Riedwiesenpflege im Weiherried
DESCRIPTION:Für die Pflege artenreicher Lebensräume suchen wir tatkräfti
 ge\nUnterstützung.\n
DTSTART:20240622T063000Z
DTEND:20240622T103000Z
END:VEVENT
END:VCALENDAR
