BEGIN:VCALENDAR
PRODID:-//eluceo/ical//2.0/EN
VERSION:2.0
CALSCALE:GREGORIAN
BEGIN:VEVENT
UID:95317fcc7b6a7b5202969d62ee472e1c
DTSTAMP:20260421T223652Z
SUMMARY:Wanderung zur "Haglere"
DESCRIPTION:Ziel dieser ganztägigen Wanderung ist das Pro Natura Schutzgeb
 iet\n"Haglere"\, ein urtümliches Bergföhren-Hochmoor und Lebensraum von\
 nRosmarinheide\, Moorenzian und Birkhuhn.\n
DTSTART:20220903T071500Z
DTEND:20220903T140000Z
END:VEVENT
END:VCALENDAR
