BEGIN:VCALENDAR
PRODID:-//eluceo/ical//2.0/EN
VERSION:2.0
CALSCALE:GREGORIAN
BEGIN:VEVENT
UID:41d2aa11b81d0706c8acc583b6b9c983
DTSTAMP:20260421T224846Z
SUMMARY:SlowUp Seetal
DESCRIPTION:Besuchen Sie den Erlebnis- und Informationsstand von Pro Natura
  Luzern\nbeim Ronfeld. Weitere Informationen folgen ab August unter\nwww.p
 ronatura-lu.ch\n
DTSTART:20220821T080000Z
DTEND:20220821T150000Z
END:VEVENT
END:VCALENDAR
