BEGIN:VCALENDAR
PRODID:-//eluceo/ical//2.0/EN
VERSION:2.0
CALSCALE:GREGORIAN
BEGIN:VEVENT
UID:7886f0cb4e08883302f9e4f42b0132c3
DTSTAMP:20260421T224840Z
SUMMARY:Exkursion Herdenschutzhunde
DESCRIPTION:Immer öfter begegnen wir in den Voralpen und Alpen Schafherden
 \, die\nvon Herdenschutzhunden begleitet werden. Manchmal führen Wander- 
 und\nBergwege mitten durch eine beweidete Fläche. Wie verhalten wir uns\n
 richtig? Warum braucht es Herdenschutzhunde?\n
DTSTART:20220806T065000Z
DTEND:20220806T140000Z
END:VEVENT
END:VCALENDAR
