BEGIN:VCALENDAR
PRODID:-//eluceo/ical//2.0/EN
VERSION:2.0
CALSCALE:GREGORIAN
BEGIN:VEVENT
UID:ff4b23ddeaa2de179ed386cfbbeee918
DTSTAMP:20260421T224752Z
SUMMARY:Erleben Sie die Faszination "Quelle"
DESCRIPTION:Trinkwasserspender\, Kraftort\, Lebensraum - eine Quelle weckt 
 viele\nBegehren und fasziniert die Menschen seit jeher. Heute sind\nnatür
 liche Quellaustritte jedoch nur noch selten anzutreffen.\n
DTSTART:20220702T113500Z
DTEND:20220702T143000Z
END:VEVENT
END:VCALENDAR
