BEGIN:VCALENDAR
PRODID:-//eluceo/ical//2.0/EN
VERSION:2.0
CALSCALE:GREGORIAN
BEGIN:VEVENT
UID:0849bb5d481f14e57b68f96939dde49c
DTSTAMP:20260422T002146Z
SUMMARY:Würzenbach - Unter der Oberfläche
DESCRIPTION:Wir erhaschen auf diesem Spaziergang einen Blick ins Wasser des
 \nWürzenbachs. Was lebt im Bach und was sagen die Bewohner über das\nGew
 ässer aus?\n
DTSTART:20220616T160000Z
DTEND:20220616T180000Z
END:VEVENT
END:VCALENDAR
