BEGIN:VCALENDAR
PRODID:-//eluceo/ical//2.0/EN
VERSION:2.0
CALSCALE:GREGORIAN
BEGIN:VEVENT
UID:cee47e18fdfeaaa3333f899c62eb1c6f
DTSTAMP:20260422T002009Z
SUMMARY:Lebensraumpflege im Unter Schiltwald
DESCRIPTION:Gemeinsam bekämpfen wir Neophyten auf einem Areal mit neu erst
 ellten\nUnkentümpeln und Weihern im Unter Schiltwald in Emmen.\n
DTSTART:20220611T113000Z
DTEND:20220611T150000Z
END:VEVENT
END:VCALENDAR
