BEGIN:VCALENDAR
PRODID:-//eluceo/ical//2.0/EN
VERSION:2.0
CALSCALE:GREGORIAN
BEGIN:VEVENT
UID:81b87d8dbebc59eba09604b80b277217
DTSTAMP:20260422T002040Z
SUMMARY:AUSGEBUCHT - Grosse Fontanne - Artenreiches Naturgebiet und beliebt
 es Goldwäscher-Ziel
DESCRIPTION:Wandern Sie mit uns von den Quellen bis zum Fluss\, vorbei an w
 ilden\nWaldbächen und im Flussbett der mäandrierenden Grossen Fontanne.\
 n
DTSTART:20220522T073500Z
DTEND:20220522T150000Z
END:VEVENT
END:VCALENDAR
