BEGIN:VCALENDAR
PRODID:-//eluceo/ical//2.0/EN
VERSION:2.0
CALSCALE:GREGORIAN
BEGIN:VEVENT
UID:234db7fe0c4d13b9a3b52e0d95e93220
DTSTAMP:20260422T002146Z
SUMMARY:Fotoshow "Insekten & Spinnen ganz nah"
DESCRIPTION:Es werden immer weniger und die Anzahl der verbleibenden Arten 
 sinkt\nweiter. Höchste Zeit\, dass wir ganz genau hinschauen.\n
DTSTART:20220520T160000Z
DTEND:20220520T173000Z
END:VEVENT
END:VCALENDAR
