BEGIN:VCALENDAR
PRODID:-//eluceo/ical//2.0/EN
VERSION:2.0
CALSCALE:GREGORIAN
BEGIN:VEVENT
UID:510c3df0705bde67d288334dca85809c
DTSTAMP:20260422T015647Z
SUMMARY:Baldeggersee - unterwegs mit den Rangern
DESCRIPTION:Zusammen mit einem Ranger begeben wir uns auf eine aufschlussre
 iche\nTour am Baldeggersee.\n
DTSTART:20220430T070000Z
DTEND:20220430T090000Z
END:VEVENT
END:VCALENDAR
