BEGIN:VCALENDAR
PRODID:-//eluceo/ical//2.0/EN
VERSION:2.0
CALSCALE:GREGORIAN
BEGIN:VEVENT
UID:4814c8323b693a4928af8cce70d2f8a8
DTSTAMP:20260422T020246Z
SUMMARY:"Der Gartenschläfer - eine bedrohte Art?"
DESCRIPTION:Das kleine\, nachtaktive Nagetier ist nur selten zu sehen\, auc
 h weil es\nim Winter schläft. Wo und wie lebt es? Und warum wählte Pro N
 atura\nden Gartenschläfer als Tier des Jahres 2022?\n
DTSTART:20220328T163000Z
DTEND:20220328T171500Z
END:VEVENT
END:VCALENDAR
