BEGIN:VCALENDAR
PRODID:-//eluceo/ical//2.0/EN
VERSION:2.0
CALSCALE:GREGORIAN
BEGIN:VEVENT
UID:27b1d7a99f928deb92c38c235080dbea
DTSTAMP:20260422T020455Z
SUMMARY:Tomorrow - Die Welt ist voller Lösungen
DESCRIPTION:Was\, wenn es die Formel gäbe\, die Welt zu retten? Was\, wenn
  alle von\nuns etwas dazu beitragen könnten? Finde am 11. Februar möglic
 he\nAntworten zu diesen Fragen!\n
DTSTART:20220211T180000Z
DTEND:20220211T200000Z
LOCATION:Diebold-Schilling-Strasse 13\, 6004 Luzern
GEO:47.054511;8.302908
X-APPLE-STRUCTURED-LOCATION;VALUE=URI;X-ADDRESS=Diebold-Schilling-Strasse 1
 3\, 6004 Luzern;X-APPLE-RADIUS=49;X-TITLE=:geo:47.054511,8.302908
END:VEVENT
END:VCALENDAR
