BEGIN:VCALENDAR
PRODID:-//eluceo/ical//2.0/EN
VERSION:2.0
CALSCALE:GREGORIAN
BEGIN:VEVENT
UID:ddfcfe88ba26368b655be821401e3089
DTSTAMP:20260422T021022Z
SUMMARY:Im Biberrevier unterwegs
DTSTART:20220319T130000Z
DTEND:20220319T150000Z
LOCATION:Seehüsliweg 6\, 6004 Luzern
GEO:47.063059;8.298861
X-APPLE-STRUCTURED-LOCATION;VALUE=URI;X-ADDRESS=Seehüsliweg 6\, 6004 Luzer
 n;X-APPLE-RADIUS=49;X-TITLE=:geo:47.063059,8.298861
END:VEVENT
END:VCALENDAR
