BEGIN:VCALENDAR
PRODID:-//eluceo/ical//2.0/EN
VERSION:2.0
CALSCALE:GREGORIAN
BEGIN:VEVENT
UID:0388be05d7facf9f6b477007be27eb8b
DTSTAMP:20260422T002009Z
SUMMARY:Entlebucher Kräuter- und Wildpflanzenmarkt
DESCRIPTION:Liebevoll hergestellte Handwerkskunst\, schmackhafte Regionalpr
 odukte\nund eine riesige Auswahl an Jungpflanzen von Kräutern\, Wildgeran
 ien\,\nGemüse und Wildpflanzen lassen das Herz jubeln.\n
DTSTART:20220514T070000Z
DTEND:20220514T140000Z
LOCATION:Dorfplatz\, 6182 Escholzmatt
GEO:46.913761;7.934292
X-APPLE-STRUCTURED-LOCATION;VALUE=URI;X-ADDRESS=Dorfplatz\, 6182 Escholzmat
 t;X-APPLE-RADIUS=49;X-TITLE=:geo:46.913761,7.934292
END:VEVENT
END:VCALENDAR
