BEGIN:VCALENDAR
PRODID:-//eluceo/ical//2.0/EN
VERSION:2.0
CALSCALE:GREGORIAN
BEGIN:VEVENT
UID:dae1f766e5a34d01d15fa9c2b74d1dee
DTSTAMP:20260422T002207Z
SUMMARY:Wildbienen-Garten (Dienstag)
DESCRIPTION:Mit dem richtigen Wissen lässt sich der eigene Garten in ein P
 aradies\nfür Wildbienen verwandeln. Dafür sind auch kleine Flächen geei
 gnet.\n
DTSTART:20220531T160000Z
DTEND:20220531T183000Z
LOCATION:Luegislandegg\, 6004 Luzern
GEO:47.054524;8.301746
X-APPLE-STRUCTURED-LOCATION;VALUE=URI;X-ADDRESS=Luegislandegg\, 6004 Luzern
 ;X-APPLE-RADIUS=49;X-TITLE=:geo:47.054524,8.301746
END:VEVENT
END:VCALENDAR
