BEGIN:VCALENDAR
PRODID:-//eluceo/ical//2.0/EN
VERSION:2.0
CALSCALE:GREGORIAN
BEGIN:VEVENT
UID:4279d3b476de70d80429cdfcbadf64ff
DTSTAMP:20260424T033757Z
SUMMARY:PAN-ÖKO-RAMA – von Wolf\, Wald und Wermutstropfen:  Flora und Fa
 una im Rundbild
DESCRIPTION:Wir entdecken die Natur im Bourbaki-Rundbild.\n
DTSTART:20220621T160000Z
DTEND:20220621T170000Z
LOCATION:Löwenplatz 11\, 6004 Luzern
GEO:47.056908;8.311334
X-APPLE-STRUCTURED-LOCATION;VALUE=URI;X-ADDRESS=Löwenplatz 11\, 6004 Luzer
 n;X-APPLE-RADIUS=49;X-TITLE=:geo:47.056908,8.311334
END:VEVENT
END:VCALENDAR
