BEGIN:VCALENDAR
PRODID:-//eluceo/ical//2.0/EN
VERSION:2.0
CALSCALE:GREGORIAN
BEGIN:VEVENT
UID:2ac7e87a42ccd37c636a81bf4d541bea
DTSTAMP:20260422T001901Z
SUMMARY:Kompostkurs
DESCRIPTION:Mit dem richtigen Wissen gelingt das Kompostieren problemlos au
 ch im\nHausgarten.\n
DTSTART:20220611T080000Z
DTEND:20220611T100000Z
LOCATION:Parkplatz Talfriedhof\, 6004 Luzern
GEO:47.057620;8.300678
X-APPLE-STRUCTURED-LOCATION;VALUE=URI;X-ADDRESS=Parkplatz Talfriedhof\, 600
 4 Luzern;X-APPLE-RADIUS=49;X-TITLE=:geo:47.057620,8.300678
END:VEVENT
END:VCALENDAR
