BEGIN:VCALENDAR
PRODID:-//eluceo/ical//2.0/EN
VERSION:2.0
CALSCALE:GREGORIAN
BEGIN:VEVENT
UID:acaaf75c3e0c4bb860cf8e398c230d37
DTSTAMP:20260422T001901Z
SUMMARY:Wildbienen-Garten (Montag)
DESCRIPTION:Mit dem richtigen Wissen lässt sich der eigene Garten in ein P
 aradies\nfür Wildbienen verwandeln. Dafür sind auch kleine Flächen geei
 gnet.\n
DTSTART:20220530T160000Z
DTEND:20220530T183000Z
LOCATION:Luegislandegg\, 6004 Luzern
GEO:47.054524;8.301746
X-APPLE-STRUCTURED-LOCATION;VALUE=URI;X-ADDRESS=Luegislandegg\, 6004 Luzern
 ;X-APPLE-RADIUS=49;X-TITLE=:geo:47.054524,8.301746
END:VEVENT
END:VCALENDAR
