BEGIN:VCALENDAR
PRODID:-//eluceo/ical//2.0/EN
VERSION:2.0
CALSCALE:GREGORIAN
BEGIN:VEVENT
UID:3fb1f0aa49e022d2fa30e5acccdd8ed3
DTSTAMP:20260422T002010Z
SUMMARY:Waldtag
DESCRIPTION:Der Waldtag Luzern zeigt die grosse Vielfalt\, die in diesem\nu
 nersetzlichen Lebensraum zu finden ist.\n
DTSTART:20220522T080000Z
DTEND:20220522T150000Z
LOCATION:Dreilindenpark\, 6006 Luzern
GEO:47.061486;8.322024
X-APPLE-STRUCTURED-LOCATION;VALUE=URI;X-ADDRESS=Dreilindenpark\, 6006 Luzer
 n;X-APPLE-RADIUS=49;X-TITLE=:geo:47.061486,8.322024
END:VEVENT
END:VCALENDAR
