BEGIN:VCALENDAR
PRODID:-//eluceo/ical//2.0/EN
VERSION:2.0
CALSCALE:GREGORIAN
BEGIN:VEVENT
UID:2d1ae2c2ed7f0a29a8a381c0bfc364eb
DTSTAMP:20260422T002145Z
SUMMARY:AUSGEBUCHT Wildbienen-Spaziergang
DESCRIPTION:Auf dem Spaziergang lassen wir uns von der erstaunlichen Vielfa
 lt der\nLuzerner Wildbienen überraschen.\n
DTSTART:20220521T120000Z
DTEND:20220521T140000Z
LOCATION:Bushaltestelle Friendental\, 6004 Luzern
GEO:47.058830;8.292619
X-APPLE-STRUCTURED-LOCATION;VALUE=URI;X-ADDRESS=Bushaltestelle Friendental\
 , 6004 Luzern;X-APPLE-RADIUS=49;X-TITLE=:geo:47.058830,8.292619
END:VEVENT
END:VCALENDAR
