BEGIN:VCALENDAR
PRODID:-//eluceo/ical//2.0/EN
VERSION:2.0
CALSCALE:GREGORIAN
BEGIN:VEVENT
UID:4ed8e3c43e7464203aa3686c73772250
DTSTAMP:20260422T020320Z
SUMMARY:Frühlingserwachen auf der Allmend
DESCRIPTION:Schon früh im Jahr werden die ersten Tiere nach der Ruhezeit w
 ieder\naktiv.\n
DTSTART:20220405T150000Z
DTEND:20220405T163000Z
LOCATION:Allmend \, 6005 Luzern
GEO:47.031211;8.303731
X-APPLE-STRUCTURED-LOCATION;VALUE=URI;X-ADDRESS=Allmend \, 6005 Luzern;X-AP
 PLE-RADIUS=49;X-TITLE=:geo:47.031211,8.303731
END:VEVENT
END:VCALENDAR
