BEGIN:VCALENDAR
PRODID:-//eluceo/ical//2.0/EN
VERSION:2.0
CALSCALE:GREGORIAN
BEGIN:VEVENT
UID:a112af8dfa8d9f6e30dfc7777cfd02bf
DTSTAMP:20260422T020214Z
SUMMARY:Eiszeit – Warmzeit – Klimawandel? Familienführung im Gletscher
 garten 
DESCRIPTION:Seit der letzten Eiszeit hat sich vieles verändert - das Klima
 \nbeeinflusst aber auch heute alle Lebensbereiche.\n
DTSTART:20220402T113000Z
DTEND:20220402T124500Z
LOCATION:Denkmalstrasse 4\, 6006 Luzern
GEO:47.058877;8.310259
X-APPLE-STRUCTURED-LOCATION;VALUE=URI;X-ADDRESS=Denkmalstrasse 4\, 6006 Luz
 ern;X-APPLE-RADIUS=49;X-TITLE=:geo:47.058877,8.310259
END:VEVENT
END:VCALENDAR
