BEGIN:VCALENDAR
PRODID:-//eluceo/ical//2.0/EN
VERSION:2.0
CALSCALE:GREGORIAN
BEGIN:VEVENT
UID:47ad2e1b1a1a121cad6a1dd5445588ae
DTSTAMP:20260421T203911Z
SUMMARY:Klimaspaziergang: Herausforderungen und Lösungen für die Zukunft
DESCRIPTION:Klimaschutz ist eine der grössten Herausforderungen der heutig
 en\nZeit. Wie kann eine Stadt diese Aufgabe angehen?\n
DTSTART:20220330T153000Z
DTEND:20220330T170000Z
LOCATION:Kauffmannweg 9\, 6003 Luzern
GEO:47.047636;8.305813
X-APPLE-STRUCTURED-LOCATION;VALUE=URI;X-ADDRESS=Kauffmannweg 9\, 6003 Luzer
 n;X-APPLE-RADIUS=49;X-TITLE=:geo:47.047636,8.305813
END:VEVENT
END:VCALENDAR
