BEGIN:VCALENDAR
PRODID:-//eluceo/ical//2.0/EN
VERSION:2.0
CALSCALE:GREGORIAN
BEGIN:VEVENT
UID:8d6ed345403aa251108c102a8bc9bfcc
DTSTAMP:20260422T020616Z
SUMMARY:Führung im Energiehaus Luzern
DESCRIPTION:Das Energiehaus Luzern zeigt auf\, wie ein Gebäude die\nHeraus
 forderungen des Klimaschutzes meistern kann und welche\nInnovationen dafü
 r nötig sind.\n
DTSTART:20220324T170000Z
DTEND:20220324T183000Z
LOCATION:Luzernerstrasse 131\, 6014 Luzern
GEO:47.049382;8.268158
X-APPLE-STRUCTURED-LOCATION;VALUE=URI;X-ADDRESS=Luzernerstrasse 131\, 6014 
 Luzern;X-APPLE-RADIUS=49;X-TITLE=:geo:47.049382,8.268158
END:VEVENT
END:VCALENDAR
