BEGIN:VCALENDAR
PRODID:-//eluceo/ical//2.0/EN
VERSION:2.0
CALSCALE:GREGORIAN
BEGIN:VEVENT
UID:370c8a432056739f4ce268e10f0bf879
DTSTAMP:20260422T020708Z
SUMMARY:AUSGEBUCHT: Dynamischer Agroforst
DESCRIPTION:Agroforst ist eine sehr alte Methode um auf der gleichen Fläch
 e\nKulturpflanzen neben Gehölzen zu kultivieren.\n
DTSTART:20220306T123000Z
DTEND:20220306T150000Z
LOCATION:Riedstrasse 2\, 6004 Luzern
GEO:47.062960;8.296781
X-APPLE-STRUCTURED-LOCATION;VALUE=URI;X-ADDRESS=Riedstrasse 2\, 6004 Luzern
 ;X-APPLE-RADIUS=49;X-TITLE=:geo:47.062960,8.296781
END:VEVENT
END:VCALENDAR
