BEGIN:VCALENDAR
PRODID:-//eluceo/ical//2.0/EN
VERSION:2.0
CALSCALE:GREGORIAN
BEGIN:VEVENT
UID:4a8bf608ddee13cdbe6b55820585f132
DTSTAMP:20260421T210832Z
SUMMARY:AUSGEBUCHT: Winterschnitt an Obst- und Beerengehölzen
DESCRIPTION:Der Kurs zeigt auf stadteigenen Flächen den Winterschnitt an\n
 Hochstamm-Obstbäumen\, Spalierobst und Beerensträuchern.\n
DTSTART:20220219T073000Z
DTEND:20220219T110000Z
LOCATION:Utenbergstrasse 3\, 6006 Luzern
GEO:47.061432;8.326281
X-APPLE-STRUCTURED-LOCATION;VALUE=URI;X-ADDRESS=Utenbergstrasse 3\, 6006 Lu
 zern;X-APPLE-RADIUS=49;X-TITLE=:geo:47.061432,8.326281
END:VEVENT
END:VCALENDAR
