BEGIN:VCALENDAR
PRODID:-//eluceo/ical//2.0/EN
VERSION:2.0
CALSCALE:GREGORIAN
BEGIN:VEVENT
UID:1066d1eff1a28a7cd4921f3e0ff1ffc4
DTSTAMP:20260422T020433Z
SUMMARY:Repair Cafés Luzern - Bourbaki Bar
DESCRIPTION:Reparieren schont Budget und Umwelt – gemeinsam und unentgelt
 lich\n
DTSTART:20220226T090000Z
DTEND:20220226T130000Z
LOCATION:Löwenplatz 11\, 6004 Luzern
GEO:47.057029;8.310948
X-APPLE-STRUCTURED-LOCATION;VALUE=URI;X-ADDRESS=Löwenplatz 11\, 6004 Luzer
 n;X-APPLE-RADIUS=49;X-TITLE=:geo:47.057029,8.310948
END:VEVENT
END:VCALENDAR
