BEGIN:VCALENDAR
PRODID:-//eluceo/ical//2.0/EN
VERSION:2.0
CALSCALE:GREGORIAN
BEGIN:VEVENT
UID:d8bc16aa2cb0090498eff7c99e45a42c
DTSTAMP:20260425T005100Z
SUMMARY:Ornithologische Highlights 2022
DESCRIPTION:Welches waren die eindrücklichsten Beobachtungen in der\nZentr
 alschweiz im Jahr 2022? Welche Entdeckungen gaben am meisten zu\nreden? We
 lche Fotos und Videos regten zum Staunen an\, z.B. auch über\nspezielle V
 erhaltensweisen?\n
DTSTART:20221201T190000Z
DTEND:20221201T203000Z
LOCATION:Kasernenplatz 6\, 6003 Luzern
GEO:47.051712;8.300926
X-APPLE-STRUCTURED-LOCATION;VALUE=URI;X-ADDRESS=Kasernenplatz 6\, 6003 Luze
 rn;X-APPLE-RADIUS=49;X-TITLE=:geo:47.051712,8.300926
END:VEVENT
END:VCALENDAR
