BEGIN:VCALENDAR
PRODID:-//eluceo/ical//2.0/EN
VERSION:2.0
CALSCALE:GREGORIAN
BEGIN:VEVENT
UID:12986ece1e1cc6eb5e43c02c34e3313d
DTSTAMP:20260425T010421Z
SUMMARY:Der Steinkauz – Kobold mit gelben Augen
DESCRIPTION:Der Steinkauz ist heutzutage in der Schweiz ein seltener Brutvo
 gel.\nNicht auszudenken\, dass er noch vor wenigen Jahrzehnten fast übera
 ll\nim Mittelland anzutreffen war.\n
DTSTART:20221117T190000Z
DTEND:20221117T203000Z
LOCATION:Kasernenplatz 6\, 6003 Luzern
GEO:47.051712;8.300926
X-APPLE-STRUCTURED-LOCATION;VALUE=URI;X-ADDRESS=Kasernenplatz 6\, 6003 Luze
 rn;X-APPLE-RADIUS=49;X-TITLE=:geo:47.051712,8.300926
END:VEVENT
END:VCALENDAR
