BEGIN:VCALENDAR
PRODID:-//eluceo/ical//2.0/EN
VERSION:2.0
CALSCALE:GREGORIAN
BEGIN:VEVENT
UID:af93acbf38569c396ce2fb0274f9fc6f
DTSTAMP:20260425T010548Z
SUMMARY:Naturnahe Pflege im Naturlehrgebiet
DESCRIPTION:Um den Charakter und die Vielfalt des Naturlehrgebiets zu bewah
 ren\,\nsind Pflegeeingriffe unumgänglich. Durch die langjährige Pflege\n
 entstehen wahre Refugien für Tiere und Pflanzen oder bleiben dadurch\nerh
 alten! Machen auch Sie mit.\n
DTSTART:20221112T080000Z
DTEND:20221112T143000Z
LOCATION:Naturlehrgebiet Buchwald\, 6218 Ettiswil
GEO:47.143878;8.030119
X-APPLE-STRUCTURED-LOCATION;VALUE=URI;X-ADDRESS=Naturlehrgebiet Buchwald\, 
 6218 Ettiswil;X-APPLE-RADIUS=49;X-TITLE=:geo:47.143878,8.030119
END:VEVENT
END:VCALENDAR
