BEGIN:VCALENDAR
PRODID:-//eluceo/ical//2.0/EN
VERSION:2.0
CALSCALE:GREGORIAN
BEGIN:VEVENT
UID:ed5fdfd1668d15eb917792928de0bb38
DTSTAMP:20260425T010614Z
SUMMARY:Eisvogel & Co. am oberen Sempachersee
DESCRIPTION:Am Sempachersee ist der Eisvogel nach der Brutzeit regelmässig
  zu\nbeobachten. Wer seinen hohen Ruf kennt\, kann sich rechtzeitig auf de
 n\n«fliegenden Edelstein» einstellen.\n
DTSTART:20221105T080000Z
DTEND:20221105T110000Z
LOCATION:Seestrasse 16\, 6204 Sempach
GEO:47.135158;8.189827
X-APPLE-STRUCTURED-LOCATION;VALUE=URI;X-ADDRESS=Seestrasse 16\, 6204 Sempac
 h;X-APPLE-RADIUS=49;X-TITLE=:geo:47.135158,8.189827
END:VEVENT
END:VCALENDAR
