BEGIN:VCALENDAR
PRODID:-//eluceo/ical//2.0/EN
VERSION:2.0
CALSCALE:GREGORIAN
BEGIN:VEVENT
UID:62d7088371c020f8d839b72ef4004dad
DTSTAMP:20260421T205629Z
SUMMARY:3. Zentralschweizer Naturtagung
DESCRIPTION:Welche Projekte im Naturschutz waren erfolgreich und warum? Wie
  kann\nder Verlust der Biodiversität gestoppt werden? An diesem Nachmitta
 g\nkönnen Sie Spannendes aus dem Natur- und Landschaftsschutz in der\nZen
 tralschweiz erfahren.\n
DTSTART:20221029T110000Z
DTEND:20221029T150000Z
LOCATION:Luzernerstrasse 6\, 6204 Sempach
GEO:47.127682;8.192563
X-APPLE-STRUCTURED-LOCATION;VALUE=URI;X-ADDRESS=Luzernerstrasse 6\, 6204 Se
 mpach;X-APPLE-RADIUS=49;X-TITLE=:geo:47.127682,8.192563
END:VEVENT
END:VCALENDAR
