BEGIN:VCALENDAR
PRODID:-//eluceo/ical//2.0/EN
VERSION:2.0
CALSCALE:GREGORIAN
BEGIN:VEVENT
UID:95e0ac6fb0ef5b16c6fb60ea0c108030
DTSTAMP:20260421T205931Z
SUMMARY:Die Fledermäuse im Kanton Luzern
DESCRIPTION:Rund 20 verschiedene Fledermausarten können im Kanton Luzern\n
 angetroffen werden. Der Fledermausschutz Luzern setzt sich auf\nverschiede
 nen Ebenen für den Schutz dieser faszinierenden Tiere ein\,\ndenen der n
 ächtliche Luftraum gehört.\n
DTSTART:20221020T180000Z
DTEND:20221020T193000Z
LOCATION:Kasernenplatz 6\, 6003 Luzern
GEO:47.051712;8.300926
X-APPLE-STRUCTURED-LOCATION;VALUE=URI;X-ADDRESS=Kasernenplatz 6\, 6003 Luze
 rn;X-APPLE-RADIUS=49;X-TITLE=:geo:47.051712,8.300926
END:VEVENT
END:VCALENDAR
