BEGIN:VCALENDAR
PRODID:-//eluceo/ical//2.0/EN
VERSION:2.0
CALSCALE:GREGORIAN
BEGIN:VEVENT
UID:63c0af31086ef37848221fa3987e9bab
DTSTAMP:20260420T205237Z
SUMMARY:EuroBirdwatch 2022 – Faszination Vogelzug
DESCRIPTION:Erleben Sie die Faszination Vogelzug hautnah auf dem Krienser\n
 Sonnenberg bzw. in der Moorlandschaft im Entlebuch! An beiden Orten\nist a
 m Sonntag je einen Beobachtungs- und Informationsstand\neingerichtet.\n
DTSTART:20221002T060000Z
DTEND:20221002T150000Z
LOCATION:Haltestelle Sonnenberg\, 6010 Kriens
GEO:47.036295;8.274484
X-APPLE-STRUCTURED-LOCATION;VALUE=URI;X-ADDRESS=Haltestelle Sonnenberg\, 60
 10 Kriens;X-APPLE-RADIUS=49;X-TITLE=:geo:47.036295,8.274484
END:VEVENT
END:VCALENDAR
