BEGIN:VCALENDAR
PRODID:-//eluceo/ical//2.0/EN
VERSION:2.0
CALSCALE:GREGORIAN
BEGIN:VEVENT
UID:8cf9559d96bdb42971e38eb7e925eaa2
DTSTAMP:20260421T210723Z
SUMMARY:Was tummelt sich unter Laub und Streu
DESCRIPTION:An diesem Familienanlass gehen wir gemeinsam auf Spurensuche\, 
 was sich\nunter Laub und Streu versteckt.\n
DTSTART:20220928T113000Z
DTEND:20220928T140000Z
LOCATION:Naturlehrgebiet Buchwald\, 6218 Ettiswil
GEO:47.143878;8.030119
X-APPLE-STRUCTURED-LOCATION;VALUE=URI;X-ADDRESS=Naturlehrgebiet Buchwald\, 
 6218 Ettiswil;X-APPLE-RADIUS=49;X-TITLE=:geo:47.143878,8.030119
END:VEVENT
END:VCALENDAR
