BEGIN:VCALENDAR
PRODID:-//eluceo/ical//2.0/EN
VERSION:2.0
CALSCALE:GREGORIAN
BEGIN:VEVENT
UID:b714227e9f9e64281ca94dde251a3922
DTSTAMP:20260421T210717Z
SUMMARY:Kräuterspaziergang
DESCRIPTION:Wir spazieren zur Kreuzbergkapelle oberhalb von Dagmersellen un
 d\nentdecken unter der Leitung von Selina Haefeli und Desirée Hofmann\nWi
 ldkräuter. Wir erfahren Interessantes über die Pflanzen und\nstellen als
  kulinarisches Andenken ein Kräutersalz her.\n
DTSTART:20220924T070000Z
DTEND:20220924T093000Z
LOCATION:Untere Kirchfeldstrasse 8\, 6252 Dagmersellen
GEO:47.214693;7.990802
X-APPLE-STRUCTURED-LOCATION;VALUE=URI;X-ADDRESS=Untere Kirchfeldstrasse 8\,
  6252 Dagmersellen;X-APPLE-RADIUS=49;X-TITLE=:geo:47.214693,7.990802
END:VEVENT
END:VCALENDAR
