BEGIN:VCALENDAR
PRODID:-//eluceo/ical//2.0/EN
VERSION:2.0
CALSCALE:GREGORIAN
BEGIN:VEVENT
UID:e7ddd901782683ea2fc7d19bd8898e6a
DTSTAMP:20260421T210723Z
SUMMARY:Herbstzug: Vogelrastplatz Wauwilermoos
DESCRIPTION:Das Wauwilermoos ist eines der wichtigsten Naturschutzgebiete d
 es\nKantons Luzern. Auf der strapaziösen Reise in den Süden machen viele
 \nZugvögel in diesem Gebiet halt\, um Energie für die Weiterreise zu\nta
 nken.\n
DTSTART:20220917T050000Z
DTEND:20220917T090000Z
LOCATION:Grosse Moosstrasse\, 6242 Wauwil
GEO:47.183641;8.018297
X-APPLE-STRUCTURED-LOCATION;VALUE=URI;X-ADDRESS=Grosse Moosstrasse\, 6242 W
 auwil;X-APPLE-RADIUS=49;X-TITLE=:geo:47.183641,8.018297
END:VEVENT
END:VCALENDAR
