BEGIN:VCALENDAR
PRODID:-//eluceo/ical//2.0/EN
VERSION:2.0
CALSCALE:GREGORIAN
BEGIN:VEVENT
UID:5197931ec3f5b9d2e09a7c6dcb6b93a6
DTSTAMP:20260421T223647Z
SUMMARY:Faszination Auenlandschaft
DESCRIPTION:Von Entlebuch bis zur Einmündung der Fontanne in die Kleine Em
 me\nliegt ein Auengebiet von nationaler Bedeutung. Peter Kull wird uns mit
 \nseiner grossen Fachkenntnis über die spezifischen Auflagen für\ndieses
  Gebiet bestens Auskunft geben können.\n
DTSTART:20220910T110000Z
DTEND:20220910T143000Z
LOCATION:Bahnhof Malters\, 6102 Malters
GEO:47.038245;8.181881
X-APPLE-STRUCTURED-LOCATION;VALUE=URI;X-ADDRESS=Bahnhof Malters\, 6102 Malt
 ers;X-APPLE-RADIUS=49;X-TITLE=:geo:47.038245,8.181881
END:VEVENT
END:VCALENDAR
